BEGIN:VCALENDAR
VERSION:2.0
PRODID:-//Carmanyola picant - ECPv6.15.20//NONSGML v1.0//EN
CALSCALE:GREGORIAN
METHOD:PUBLISH
X-ORIGINAL-URL:https://carmanyolapicant.cat
X-WR-CALDESC:Esdeveniments per Carmanyola picant
REFRESH-INTERVAL;VALUE=DURATION:PT1H
X-Robots-Tag:noindex
X-PUBLISHED-TTL:PT1H
BEGIN:VTIMEZONE
TZID:UTC
BEGIN:STANDARD
TZOFFSETFROM:+0000
TZOFFSETTO:+0000
TZNAME:UTC
DTSTART:20240101T000000
END:STANDARD
END:VTIMEZONE
BEGIN:VEVENT
DTSTART;TZID=UTC:20250916T180000
DTEND;TZID=UTC:20250916T180000
DTSTAMP:20260419T221610
CREATED:20250901T183011Z
LAST-MODIFIED:20250912T165021Z
UID:406558-1758045600-1758045600@carmanyolapicant.cat
SUMMARY:MasterClass de Twerk
DESCRIPTION:Prova la MasterClass que farem el proper dimarts 9 de setembre a les 18:30h a l’espai de la Carmanyola Picant de Terrassa. \nAmb l’Andrea gaudiràs aprenent a moure els malucs amb diferents estils musicals que incorporen el moviment pèlvic a les seves danses. \nConnecta el teu cos\, connecta’t! \n\n\nPer aquest taller no cal saber ballar\, ni cal saber de música\, qualsevol persona de qualsevol edat pot provar-ho. \nA partir d’un escalfament i amb una mica de música\, ens mourem per despertar la nostra sensualitat i descobrir el nostres cos\, treballarem la zona pèlvica tot desbloquejant els malucs per millorar sexualment. L’energia que fluirà serà femenina\, però hi esteu totis convidades! \nObjectius: \nPotenciar la nostra sensualitat \nDesbloquejar malucs i descobrir el nostre cos \nCompartir energia femenina i empoderar-nos totis \nCaracterístiques: \nSessió de 1:15 h \nPreu: 20€ la sessió \nFacilitadora: Andrea Salvador \nReserves: 679823558 \nCal dur roba còmode\, bambes o mitjons antilliscants /sola de goma\, genolleres si en teniu.
URL:https://carmanyolapicant.cat/event/twerk-terrassa/
LOCATION:Carmanyola picant\, Emperadriu Eugènia\, 24\, Terrassa\, Barcelona - 08\, 08225\, España
CATEGORIES:ball
ATTACH;FMTTYPE=image/jpeg:https://carmanyolapicant.cat/wp-content/uploads/2025/09/masterclass-twerk-terrassa-carmanyola_picant-2025.jpg
END:VEVENT
END:VCALENDAR